BEGIN:VCALENDAR
VERSION:2.0
PRODID:-//Tukios.com/
BEGIN:VEVENT
UID:10f9d232-bc19-4d39-8cf1-1fee8f299901@obits.harrymckneely.com
DTSTAMP:20260419T194552Z
DTSTART:20260422T173000Z
DTEND:20260422T183000Z
SUMMARY:Burial
DESCRIPTION:
URL:https://obits.harrymckneely.com/peggy-barnett
LOCATION: 41372 Thompson Dr  Hammond LA 70403
GEO:30.46207;-90.471911
END:VEVENT
END:VCALENDAR