BEGIN:VCALENDAR
VERSION:2.0
PRODID:-//Tukios.com/
BEGIN:VEVENT
UID:ce02f63f-5d42-456e-9178-3d50fbd40d2d@obits.harrymckneely.com
DTSTAMP:20260419T194111Z
DTSTART:20260422T163000Z
DTEND:20260422T173000Z
SUMMARY:Funeral Service
DESCRIPTION:
URL:https://obits.harrymckneely.com/peggy-barnett
LOCATION: 100 W. Magnolia St.  Ponchatoula LA 70454
GEO:30.4357872;-90.4409143
END:VEVENT
END:VCALENDAR