BEGIN:VCALENDAR
VERSION:2.0
PRODID:-//Tukios.com/
BEGIN:VEVENT
UID:e1b88aa6-8d8c-4b8f-9ffa-d4ad16fe254d@obits.harrymckneely.com
DTSTAMP:20260419T195002Z
DTSTART:20260422T153000Z
DTEND:20260422T163000Z
SUMMARY:Visitation
DESCRIPTION:
URL:https://obits.harrymckneely.com/peggy-barnett
LOCATION: 100 W. Magnolia St.  Ponchatoula LA 70454
GEO:30.4357872;-90.4409143
END:VEVENT
END:VCALENDAR