BEGIN:VCALENDAR
VERSION:2.0
PRODID:-//Tukios.com/
BEGIN:VEVENT
UID:41aefa4c-eb1c-4641-a29f-11d753621c5b@obits.harrymckneely.com
DTSTAMP:20260421T172402Z
DTSTART:20260423T170000Z
DTEND:20260423T180000Z
SUMMARY:Burial
DESCRIPTION:
URL:https://obits.harrymckneely.com/nettie-blackwell
LOCATION:Hutchinson Cemetery Hutchinson Cemetery Rd.  Albany LA 70711
GEO:30.4952042;-90.590472
END:VEVENT
END:VCALENDAR