BEGIN:VCALENDAR
VERSION:2.0
PRODID:-//Tukios.com/
BEGIN:VEVENT
UID:7854edb7-ce34-4c0e-a548-f9e11f311006@obits.harrymckneely.com
DTSTAMP:20260420T173909Z
DTSTART:20260425T170000Z
DTEND:20260425T180000Z
SUMMARY:Burial
DESCRIPTION:
URL:https://obits.harrymckneely.com/katie-clouate
LOCATION:Killian Chapel Cemetery 33778 LA-16  Amite City LA 70422
GEO:30.6927694;-90.6218835
END:VEVENT
END:VCALENDAR