BEGIN:VCALENDAR
VERSION:2.0
PRODID:-//Tukios.com/
BEGIN:VEVENT
UID:d3870fc6-d278-4515-9e01-677b2d503756@obits.harrymckneely.com
DTSTAMP:20260420T173403Z
DTSTART:20260425T160000Z
DTEND:20260425T170000Z
SUMMARY:Funeral Service
DESCRIPTION:
URL:https://obits.harrymckneely.com/katie-clouate
LOCATION: 2000 N Morrison Blvd  Hammond LA 70401
GEO:30.518617;-90.4821418
END:VEVENT
END:VCALENDAR