BEGIN:VCALENDAR
VERSION:2.0
PRODID:-//Tukios.com/
BEGIN:VEVENT
UID:2dd9a649-7149-465e-8e1f-bbb9891464c4@obits.harrymckneely.com
DTSTAMP:20260420T174007Z
DTSTART:20260425T150000Z
DTEND:20260425T160000Z
SUMMARY:Visitation
DESCRIPTION:
URL:https://obits.harrymckneely.com/katie-clouate
LOCATION: 2000 N Morrison Blvd  Hammond LA 70401
GEO:30.518617;-90.4821418
END:VEVENT
END:VCALENDAR