BEGIN:VCALENDAR
VERSION:2.0
PRODID:-//Tukios.com/
BEGIN:VEVENT
UID:28040fbf-9eb7-4118-ad5f-58c31d19a3bc@obits.harrymckneely.com
DTSTAMP:20260421T223603Z
DTSTART:20260427
SUMMARY:Interment Will Follow
DESCRIPTION:
URL:https://obits.harrymckneely.com/joseph-maurer
LOCATION: 13433 Vitrano Ln  Independence LA 70443
GEO:30.6176049;-90.4975809
END:VEVENT
END:VCALENDAR