BEGIN:VCALENDAR
VERSION:2.0
PRODID:-//Tukios.com/
BEGIN:VEVENT
UID:a64976da-2908-46a9-baee-65a37fdeee76@obits.harrymckneely.com
DTSTAMP:20260421T223557Z
DTSTART:20260427T160000Z
DTEND:20260427T170000Z
SUMMARY:Funeral Service
DESCRIPTION:
URL:https://obits.harrymckneely.com/joseph-maurer
LOCATION: 2000 N Morrison Blvd  Hammond LA 70401
GEO:30.518617;-90.4821418
END:VEVENT
END:VCALENDAR