BEGIN:VCALENDAR
VERSION:2.0
PRODID:-//Tukios.com/
BEGIN:VEVENT
UID:55b2a2c1-0ffb-46be-9468-0c3faab5607f@obits.harrymckneely.com
DTSTAMP:20260421T223603Z
DTSTART:20260427T133000Z
DTEND:20260427T160000Z
SUMMARY:Visitation
DESCRIPTION:
URL:https://obits.harrymckneely.com/joseph-maurer
LOCATION: 2000 N Morrison Blvd  Hammond LA 70401
GEO:30.518617;-90.4821418
END:VEVENT
END:VCALENDAR