BEGIN:VCALENDAR
VERSION:2.0
PRODID:-//Tukios.com/
BEGIN:VEVENT
UID:f153405b-107a-47ac-b3bb-f453f161672d@obits.harrymckneely.com
DTSTAMP:20260421T163434Z
DTSTART:20260423T160000Z
DTEND:20260423T170000Z
SUMMARY:Funeral Service
DESCRIPTION:
URL:https://obits.harrymckneely.com/jessie-mae-newman
LOCATION: 100 W. Magnolia St.  Ponchatoula LA 70454
GEO:30.4357872;-90.4409143
END:VEVENT
END:VCALENDAR