BEGIN:VCALENDAR
VERSION:2.0
PRODID:-//Tukios.com/
BEGIN:VEVENT
UID:8d0af9c8-a4b4-4cf0-9a9e-93348ed1217c@obits.harrymckneely.com
DTSTAMP:20260421T163232Z
DTSTART:20260423T140000Z
DTEND:20260423T160000Z
SUMMARY:Visitation
DESCRIPTION:
URL:https://obits.harrymckneely.com/jessie-mae-newman
LOCATION: 100 W. Magnolia St.  Ponchatoula LA 70454
GEO:30.4357872;-90.4409143
END:VEVENT
END:VCALENDAR