BEGIN:VCALENDAR
VERSION:2.0
PRODID:-//Tukios.com/
BEGIN:VEVENT
UID:0cb12d56-94e0-4f6c-bfe7-f3f5b660debe@obits.harrymckneely.com
DTSTAMP:20260422T003648Z
DTSTART:20260424
SUMMARY:Interment
DESCRIPTION:
URL:https://obits.harrymckneely.com/james-barcia-sr
LOCATION: 13433 Vitrano Ln  Independence LA 70443
GEO:30.6176049;-90.4975809
END:VEVENT
END:VCALENDAR