BEGIN:VCALENDAR
VERSION:2.0
PRODID:-//Tukios.com/
BEGIN:VEVENT
UID:4f227919-1cc1-4d2e-ade7-912554e73286@obits.harrymckneely.com
DTSTAMP:20260422T003648Z
DTSTART:20260424T160000Z
DTEND:20260424T170000Z
SUMMARY:Funeral Service
DESCRIPTION:
URL:https://obits.harrymckneely.com/james-barcia-sr
LOCATION:Harry McKneely & Son Funeral Home 2000 N Morrison Blvd  Hammond 
	LA 70401
GEO:30.518617;-90.4821418
END:VEVENT
END:VCALENDAR