BEGIN:VCALENDAR
VERSION:2.0
PRODID:-//Tukios.com/
BEGIN:VEVENT
UID:fc427c00-0442-4748-9058-c8a17432caa1@obits.harrymckneely.com
DTSTAMP:20260422T003527Z
DTSTART:20260424T140000Z
DTEND:20260424T160000Z
SUMMARY:Visitation
DESCRIPTION:
URL:https://obits.harrymckneely.com/james-barcia-sr
LOCATION:Harry McKneely & Son Funeral Home 2000 N Morrison Blvd  Hammond 
	LA 70401
GEO:30.518617;-90.4821418
END:VEVENT
END:VCALENDAR