BEGIN:VCALENDAR
VERSION:2.0
PRODID:-//Tukios.com/
BEGIN:VEVENT
UID:81fc17d7-6c8a-4936-955a-f958a148416a@obits.harrymckneely.com
DTSTAMP:20260420T053142Z
DTSTART:20260421T190000Z
DTEND:20260421T200000Z
SUMMARY:Burial
DESCRIPTION:
URL:https://obits.harrymckneely.com/gayle-schisler
LOCATION: 908 Western Ave  Hammond LA 70401
GEO:30.5121953;-90.4741131
END:VEVENT
END:VCALENDAR