BEGIN:VCALENDAR
VERSION:2.0
PRODID:-//Tukios.com/
BEGIN:VEVENT
UID:96f14bc5-891c-452c-aea8-cb1b87d04a8f@obits.harrymckneely.com
DTSTAMP:20260420T053316Z
DTSTART:20260421T180000Z
DTEND:20260421T190000Z
SUMMARY:Funeral Service
DESCRIPTION:
URL:https://obits.harrymckneely.com/gayle-schisler
LOCATION: 2000 N Morrison Blvd  Hammond LA 70401
GEO:30.518617;-90.4821418
END:VEVENT
END:VCALENDAR