BEGIN:VCALENDAR
VERSION:2.0
PRODID:-//Tukios.com/
BEGIN:VEVENT
UID:f3ffe73c-a47e-4e97-ba9b-27e408d0a8fd@obits.harrymckneely.com
DTSTAMP:20260422T003820Z
DTSTART:20260423T200000Z
DTEND:20260423T210000Z
SUMMARY:Graveside Service
DESCRIPTION:
URL:https://obits.harrymckneely.com/betty-pinion
LOCATION:   Maurepas LA 70449
GEO:30.2962967;-90.6644962
END:VEVENT
END:VCALENDAR